BEGIN:VCALENDAR
VERSION:2.0
PRODID:-//ChamberMaster//Event Calendar 2.0//EN
METHOD:PUBLISH
X-PUBLISHED-TTL:P1H
REFRESH-INTERVAL:P1H
CALSCALE:GREGORIAN
BEGIN:VTIMEZONE
TZID:America/Denver
BEGIN:DAYLIGHT
RRULE:FREQ=YEARLY;BYMONTH=3;BYDAY=2SU
DTSTART:20070101T000000
TZOFFSETFROM:-0700
TZOFFSETTO:-0600
TZNAME:Mountain Daylight Time
END:DAYLIGHT
BEGIN:STANDARD
RRULE:FREQ=YEARLY;BYMONTH=11;BYDAY=1SU
DTSTART:20070101T000000
TZOFFSETFROM:-0600
TZOFFSETTO:-0700
TZNAME:Mountain Standard Time
END:STANDARD
END:VTIMEZONE
BEGIN:VEVENT
DTSTART;TZID=America/Denver:20260423T170000
DTEND;TZID=America/Denver:20260423T200000
X-MICROSOFT-CDO-ALLDAYEVENT:FALSE
SUMMARY:Optics & Friends
DESCRIPTION:Enjoy craft beverages from Asher Brewing\, food available from Altura Street Eats\, and bluegrass music on the patio—all while connecting with fellow professionals in a relaxed\, welcoming environment.
X-ALT-DESC;FMTTYPE=text/html:Enjoy craft beverages from Asher Brewing\, food available from Altura Street Eats\, and bluegrass music on the patio—all while connecting with fellow professionals in a relaxed\, welcoming environment.
LOCATION:4699 Nautilus Ct S Suite 104 Boulder CO 80301
UID:e.3391.1447524
SEQUENCE:3
DTSTAMP:20260423T121442Z
URL:https://members.coloradophotonics.org/events/Details/optics-friends-1714465?sourceTypeId=Hub
END:VEVENT
END:VCALENDAR
